BEGIN:VCALENDAR
VERSION:2.0
PRODID:-//Asian American Chamber of Commerce of Greater Philadelphia - ECPv6.15.20//NONSGML v1.0//EN
CALSCALE:GREGORIAN
METHOD:PUBLISH
X-ORIGINAL-URL:https://asianchamberphila.org
X-WR-CALDESC:Events for Asian American Chamber of Commerce of Greater Philadelphia
REFRESH-INTERVAL;VALUE=DURATION:PT1H
X-Robots-Tag:noindex
X-PUBLISHED-TTL:PT1H
BEGIN:VTIMEZONE
TZID:UTC
BEGIN:STANDARD
TZOFFSETFROM:+0000
TZOFFSETTO:+0000
TZNAME:UTC
DTSTART:20240101T000000
END:STANDARD
END:VTIMEZONE
BEGIN:VEVENT
DTSTART;TZID=UTC:20250924T190000
DTEND;TZID=UTC:20250924T210000
DTSTAMP:20260424T094723
CREATED:20250901T133522Z
LAST-MODIFIED:20250901T134347Z
UID:4257-1758740400-1758747600@asianchamberphila.org
SUMMARY:9/24 Exploring Opportunities: A Networking Evening
DESCRIPTION:Description\nJoin us for “Exploring Opportunities: A Networking Evening with Indian & Asian American Businesses” on Thursday\, September 18\, 2025\, from 7-9 pm at Shagun Palace in Bensalem . Hosted by two leading business connectors and advocates in the Greater Philadelphia area for Asian entrepreneurs AACCGP and AAABP\, this vibrant networking evening unites Indian American and Asian American entrepreneurs in Bensalem and Philadelphia to connect\, share insights\, and forge partnerships for growth. Come join us and meet with a dynamic community to drive business success. \n\n\n\n\nContact Us\n\n\n\n\n\n\n\nPlease complete the form before submitting.\n\n	Name\n		*\n	\n	\n	First\n	\n\n\n	Last\n		*\n	\n	\n	Last\n	\n\n\n	Email\n		*\n	\n	\n	\n	\n\n\n	Organization/Company\n		*\n	\n	\n	\n	\n\n\n	 Ticket Price\n		\n	\n						\n					 $25\n					\n					 Member Only Price $15\n\n	\n	\n\n\n	Choose Quantity\n		\n	\n	\n	\n	\n\n\n	Additional Questions/Comments?\n		*\n	\n	\n	\n	\n\n\n	\nSubmit\n\n\n\n\n\n	\n			\n			\n				If you are human\, leave this field blank.
URL:https://asianchamberphila.org/event/9-24-exploring-opportunities-a-networking-evening/
LOCATION:Shagun Palace\, Shagun Palace\, Bensalem\, 19020\, United States
END:VEVENT
END:VCALENDAR