BEGIN:VCALENDAR
VERSION:2.0
PRODID:-//Asian American Chamber of Commerce of Greater Philadelphia - ECPv6.15.20//NONSGML v1.0//EN
CALSCALE:GREGORIAN
METHOD:PUBLISH
X-WR-CALNAME:Asian American Chamber of Commerce of Greater Philadelphia
X-ORIGINAL-URL:https://asianchamberphila.org
X-WR-CALDESC:Events for Asian American Chamber of Commerce of Greater Philadelphia
REFRESH-INTERVAL;VALUE=DURATION:PT1H
X-Robots-Tag:noindex
X-PUBLISHED-TTL:PT1H
BEGIN:VTIMEZONE
TZID:America/New_York
BEGIN:DAYLIGHT
TZOFFSETFROM:-0500
TZOFFSETTO:-0400
TZNAME:EDT
DTSTART:20250309T070000
END:DAYLIGHT
BEGIN:STANDARD
TZOFFSETFROM:-0400
TZOFFSETTO:-0500
TZNAME:EST
DTSTART:20251102T060000
END:STANDARD
BEGIN:DAYLIGHT
TZOFFSETFROM:-0500
TZOFFSETTO:-0400
TZNAME:EDT
DTSTART:20260308T070000
END:DAYLIGHT
BEGIN:STANDARD
TZOFFSETFROM:-0400
TZOFFSETTO:-0500
TZNAME:EST
DTSTART:20261101T060000
END:STANDARD
BEGIN:DAYLIGHT
TZOFFSETFROM:-0500
TZOFFSETTO:-0400
TZNAME:EDT
DTSTART:20270314T070000
END:DAYLIGHT
BEGIN:STANDARD
TZOFFSETFROM:-0400
TZOFFSETTO:-0500
TZNAME:EST
DTSTART:20271107T060000
END:STANDARD
END:VTIMEZONE
BEGIN:VEVENT
DTSTART;TZID=America/New_York:20260423T170000
DTEND;TZID=America/New_York:20260423T190000
DTSTAMP:20260423T053238
CREATED:20260325T190750Z
LAST-MODIFIED:20260325T190750Z
UID:6064-1776963600-1776970800@asianchamberphila.org
SUMMARY:4/23 Spring Networking with NAAAP
DESCRIPTION:Professional Development & Dinner Networking Event  \nJoin the Asian American Chamber of Commerce of Greater Philadelphia and NAAAP Philadelphia for an evening of high-impact networking and executive insights in Philadelphia. \nConnect with professionals from 50+ organizations and gain valuable perspectives on strategic branding\, marketing excellence\, and building strong client relationships through a dynamic panel discussion featuring industry leaders Kevin Ryan and Matt Cowper. \nThe discussion will be moderated by Khine Zaw Arthur\, President & CEO of AACCGP\, bringing expert insights and real-world experience. \nEnjoy curated networking\, dinner\, and a special book signing with Min Park \nRegister Here
URL:https://asianchamberphila.org/event/4-23-spring-networking-with-naaap/
LOCATION:PA
ATTACH;FMTTYPE=application/pdf:https://asianchamberphila.org/wp-content/uploads/2026/03/4.23.26-Professional-Development-Networking-Event-Flyer.pdf
END:VEVENT
END:VCALENDAR