BEGIN:VCALENDAR
VERSION:2.0
PRODID:-//Asian American Chamber of Commerce of Greater Philadelphia - ECPv6.15.20//NONSGML v1.0//EN
CALSCALE:GREGORIAN
METHOD:PUBLISH
X-WR-CALNAME:Asian American Chamber of Commerce of Greater Philadelphia
X-ORIGINAL-URL:https://asianchamberphila.org
X-WR-CALDESC:Events for Asian American Chamber of Commerce of Greater Philadelphia
REFRESH-INTERVAL;VALUE=DURATION:PT1H
X-Robots-Tag:noindex
X-PUBLISHED-TTL:PT1H
BEGIN:VTIMEZONE
TZID:UTC
BEGIN:STANDARD
TZOFFSETFROM:+0000
TZOFFSETTO:+0000
TZNAME:UTC
DTSTART:20250101T000000
END:STANDARD
END:VTIMEZONE
BEGIN:VEVENT
DTSTART;TZID=UTC:20260204T120000
DTEND;TZID=UTC:20260204T130000
DTSTAMP:20260422T103731
CREATED:20260107T012501Z
LAST-MODIFIED:20260302T184633Z
UID:5841-1770206400-1770210000@asianchamberphila.org
SUMMARY:Business Development Committee Meeting
DESCRIPTION:Every 2 months on the First Wed  \nExclusive Event for BOD and ADV BOD only
URL:https://asianchamberphila.org/event/business-development-committee-meeting/
CATEGORIES:Internal
END:VEVENT
BEGIN:VEVENT
DTSTART;TZID=UTC:20260210T120000
DTEND;TZID=UTC:20260210T130000
DTSTAMP:20260422T103731
CREATED:20260107T012627Z
LAST-MODIFIED:20260302T185258Z
UID:5842-1770724800-1770728400@asianchamberphila.org
SUMMARY:Finance Committee Meeting
DESCRIPTION:Every 2 months on the Second Tue \nExclusive Event for BOD and ADV BOD
URL:https://asianchamberphila.org/event/finance-committee-meeting/
CATEGORIES:Internal
END:VEVENT
BEGIN:VEVENT
DTSTART;TZID=UTC:20260217T120000
DTEND;TZID=UTC:20260217T130000
DTSTAMP:20260422T103731
CREATED:20260107T012812Z
LAST-MODIFIED:20260302T184633Z
UID:5843-1771329600-1771333200@asianchamberphila.org
SUMMARY:Governance Committee Meeting
DESCRIPTION:Every 2 months on the Third Tue \nReserve for BOD and ADV BOD only
URL:https://asianchamberphila.org/event/governance-committee-meeting/
CATEGORIES:Internal
END:VEVENT
BEGIN:VEVENT
DTSTART;TZID=UTC:20260226T120000
DTEND;TZID=UTC:20260226T130000
DTSTAMP:20260422T103731
CREATED:20260107T020002Z
LAST-MODIFIED:20260302T184633Z
UID:5862-1772107200-1772110800@asianchamberphila.org
SUMMARY:Public Affairs/Policy Committee Meeting
DESCRIPTION:Fourth Thursday Quarterly
URL:https://asianchamberphila.org/event/public-affairs-policy-committee-meeting/
CATEGORIES:Internal
END:VEVENT
END:VCALENDAR